View In:
ArcGIS JavaScript
ArcGIS Online Map Viewer
ArcGIS Earth
ArcGIS Pro
Service Description: Use this service in place of "TaxParcel.mxd" for the Deed Drafter App.
Map Name: Deed_Check_GTC
Legend
All Layers and Tables
Layers:
Description: Use this service in place of "TaxParcel.mxd" for the Deed Drafter App.
Service Item Id: a95d0404c3284b5394a53c47bae8813e
Copyright Text: Created by GTC GIS
Spatial Reference:
102100
(3857)
LatestVCSWkid(0)
Single Fused Map Cache: true
Tile Info:
- Height: 256.0
- Width: 256.0
- DPI: 96.0
-
Levels of Detail: 24
-
Level ID: 1
[ Start Tile, End Tile ]
- Resolution: 78271.5169639999
- Scale: 2.95828763795777E8
-
Level ID: 2
[ Start Tile, End Tile ]
- Resolution: 39135.7584820001
- Scale: 1.47914381897889E8
-
Level ID: 3
[ Start Tile, End Tile ]
- Resolution: 19567.8792409999
- Scale: 7.3957190948944E7
-
Level ID: 4
[ Start Tile, End Tile ]
- Resolution: 9783.93962049996
- Scale: 3.6978595474472E7
-
Level ID: 5
[ Start Tile, End Tile ]
- Resolution: 4891.96981024998
- Scale: 1.8489297737236E7
- Format: PNG
- Compression Quality: 0.0
- Origin: X: -2.0037508342787E7
Y: 2.0037508342787E7
- Spatial Reference: 102100
(3857)
LatestVCSWkid(0)
Storage Info:
- Storage Format: esriMapCacheStorageModeCompactV2
- Packet Size: 128
Initial Extent:
XMin: -9569980.135629792
YMin: 5548473.019913565
XMax: -9479630.884784136
YMax: 5615685.041507494
Spatial Reference: 102100
(0)
LatestVCSWkid(0)
Full Extent:
XMin: -9620604.239457835
YMin: 5487789.5412008455
XMax: -9442994.020872908
YMax: 5655469.40329118
Spatial Reference: 102100
(0)
LatestVCSWkid(0)
Units: esriMeters
Supported Image Format Types: PNG32,PNG24,PNG,JPG,DIB,TIFF,EMF,PS,PDF,GIF,SVG,SVGZ,BMP
Document Info:
Title: DrafterSolution.aprx
Author:
Comments: Use this service in place of "TaxParcel.mxd" for the Deed Drafter App.
Subject: The service contains the cadastral features that are utilized when mapping legal descriptions in the Deed Drafter App.
Category:
Keywords: deeds,drafter,checker
AntialiasingMode: Fast
TextAntialiasingMode: Force
Supports Dynamic Layers: false
MaxRecordCount: 2000
MaxImageHeight: 4096
MaxImageWidth: 4096
Supported Query Formats: JSON, geoJSON, PBF
Supports Query Data Elements: true
Min Scale: 288895.277144
Max Scale: 2256.994353
Min LOD: 11
Max LOD: 18
Supports Datum Transformation: true
Child Resources:
Info
Supported Operations:
Export Map
Identify
QueryLegends
QueryDomains
Find
Return Updates