<?xml version="1.0" encoding="UTF-8"?>
<Capabilities xmlns="http://www.opengis.net/wmts/1.0"
xmlns:ows="http://www.opengis.net/ows/1.1"
xmlns:xlink="http://www.w3.org/1999/xlink"
xmlns:xsi="http://www.w3.org/2001/XMLSchema-instance"
xmlns:gml="http://www.opengis.net/gml"
xsi:schemaLocation="http://www.opengis.net/wmts/1.0 http://schemas.opengis.net/wmts/1.0/wmtsGetCapabilities_response.xsd"
version="1.0.0">
<!-- Service Identification --> <ows:ServiceIdentification>
<ows:Title>Imagery_Grand_Traverse_Image_Mosaic_Tile_Cache</ows:Title>
<ows:ServiceType>OGC WMTS</ows:ServiceType>
<ows:ServiceTypeVersion>1.0.0</ows:ServiceTypeVersion>
</ows:ServiceIdentification> <!-- Operations Metadata --> <ows:OperationsMetadata>
<ows:Operation name="GetCapabilities">
<ows:DCP>
<ows:HTTP>
<ows:Get xlink:href="https://gis.gtcountymi.gov/arcgis/rest/services/Imagery/Grand_Traverse_Image_Mosaic_Tile_Cache/MapServer/WMTS/1.0.0/WMTSCapabilities.xml">
<ows:Constraint name="GetEncoding">
<ows:AllowedValues>
<ows:Value>RESTful</ows:Value>
</ows:AllowedValues>
</ows:Constraint>
</ows:Get>
<!-- add KVP binding in 10.1 -->
<ows:Get xlink:href="https://gis.gtcountymi.gov/arcgis/rest/services/Imagery/Grand_Traverse_Image_Mosaic_Tile_Cache/MapServer/WMTS?">
<ows:Constraint name="GetEncoding">
<ows:AllowedValues>
<ows:Value>KVP</ows:Value>
</ows:AllowedValues>
</ows:Constraint>
</ows:Get>
</ows:HTTP>
</ows:DCP>
</ows:Operation>
<ows:Operation name="GetTile">
<ows:DCP>
<ows:HTTP>
<ows:Get xlink:href="https://gis.gtcountymi.gov/arcgis/rest/services/Imagery/Grand_Traverse_Image_Mosaic_Tile_Cache/MapServer/WMTS/tile/1.0.0/">
<ows:Constraint name="GetEncoding">
<ows:AllowedValues>
<ows:Value>RESTful</ows:Value>
</ows:AllowedValues>
</ows:Constraint>
</ows:Get>
<ows:Get xlink:href="https://gis.gtcountymi.gov/arcgis/rest/services/Imagery/Grand_Traverse_Image_Mosaic_Tile_Cache/MapServer/WMTS?">
<ows:Constraint name="GetEncoding">
<ows:AllowedValues>
<ows:Value>KVP</ows:Value>
</ows:AllowedValues>
</ows:Constraint>
</ows:Get>
</ows:HTTP>
</ows:DCP>
</ows:Operation>
</ows:OperationsMetadata> <Contents>
<!--Layer--> <Layer>
<ows:Title>Imagery_Grand_Traverse_Image_Mosaic_Tile_Cache</ows:Title> <ows:Identifier>Imagery_Grand_Traverse_Image_Mosaic_Tile_Cache</ows:Identifier>
<ows:BoundingBox crs="urn:ogc:def:crs:EPSG::2252">
<ows:LowerCorner>1.9305E7 435000.0</ows:LowerCorner>
<ows:UpperCorner>1.94375E7 615000.0</ows:UpperCorner>
</ows:BoundingBox> <ows:WGS84BoundingBox crs="urn:ogc:def:crs:OGC:2:84">
<ows:LowerCorner>-85.83585781109083 44.50050348439147</ows:LowerCorner>
<ows:UpperCorner>-85.31554824841625 44.99960368624815</ows:UpperCorner>
</ows:WGS84BoundingBox>
<Style isDefault="true">
<ows:Title>Default Style</ows:Title>
<ows:Identifier>default</ows:Identifier>
</Style>
<Format>image/jpgpng</Format>
<TileMatrixSetLink>
<TileMatrixSet>default028mm</TileMatrixSet>
</TileMatrixSetLink>
<ResourceURL format="image/jpgpng" resourceType="tile" template="https://gis.gtcountymi.gov/arcgis/rest/services/Imagery/Grand_Traverse_Image_Mosaic_Tile_Cache/MapServer/WMTS/tile/1.0.0/Imagery_Grand_Traverse_Image_Mosaic_Tile_Cache/{Style}/{TileMatrixSet}/{TileMatrix}/{TileRow}/{TileCol}" />
</Layer> <!--TileMatrixSet-->
<TileMatrixSet>
<ows:Title>TileMatrix using 0.28mm</ows:Title>
<ows:Abstract>The tile matrix set that has scale values calculated based on the dpi defined by OGC specification (dpi assumes 0.28mm as the physical distance of a pixel).</ows:Abstract> <ows:Identifier>default028mm</ows:Identifier>
<ows:SupportedCRS>urn:ogc:def:crs:EPSG::2252</ows:SupportedCRS>
<TileMatrix>
<ows:Identifier>0</ows:Identifier>
<ScaleDenominator>118117.79575938618</ScaleDenominator>
<TopLeftCorner>-9.99189E7 1.4119729999999997E8</TopLeftCorner> <TileWidth>256</TileWidth> <TileHeight>256</TileHeight>
<MatrixWidth>4297</MatrixWidth> <MatrixHeight>5068</MatrixHeight>
</TileMatrix>
<TileMatrix>
<ows:Identifier>1</ows:Identifier>
<ScaleDenominator>59058.89787969309</ScaleDenominator>
<TopLeftCorner>-9.99189E7 1.4119729999999997E8</TopLeftCorner> <TileWidth>256</TileWidth> <TileHeight>256</TileHeight>
<MatrixWidth>8594</MatrixWidth> <MatrixHeight>10135</MatrixHeight>
</TileMatrix>
<TileMatrix>
<ows:Identifier>2</ows:Identifier>
<ScaleDenominator>29529.448939846545</ScaleDenominator>
<TopLeftCorner>-9.99189E7 1.4119729999999997E8</TopLeftCorner> <TileWidth>256</TileWidth> <TileHeight>256</TileHeight>
<MatrixWidth>17188</MatrixWidth> <MatrixHeight>20270</MatrixHeight>
</TileMatrix>
<TileMatrix>
<ows:Identifier>3</ows:Identifier>
<ScaleDenominator>14764.724469923272</ScaleDenominator>
<TopLeftCorner>-9.99189E7 1.4119729999999997E8</TopLeftCorner> <TileWidth>256</TileWidth> <TileHeight>256</TileHeight>
<MatrixWidth>34375</MatrixWidth> <MatrixHeight>40540</MatrixHeight>
</TileMatrix>
<TileMatrix>
<ows:Identifier>4</ows:Identifier>
<ScaleDenominator>7382.362234961636</ScaleDenominator>
<TopLeftCorner>-9.99189E7 1.4119729999999997E8</TopLeftCorner> <TileWidth>256</TileWidth> <TileHeight>256</TileHeight>
<MatrixWidth>68750</MatrixWidth> <MatrixHeight>81079</MatrixHeight>
</TileMatrix>
<TileMatrix>
<ows:Identifier>5</ows:Identifier>
<ScaleDenominator>3691.181117480818</ScaleDenominator>
<TopLeftCorner>-9.99189E7 1.4119729999999997E8</TopLeftCorner> <TileWidth>256</TileWidth> <TileHeight>256</TileHeight>
<MatrixWidth>137499</MatrixWidth> <MatrixHeight>162158</MatrixHeight>
</TileMatrix>
<TileMatrix>
<ows:Identifier>6</ows:Identifier>
<ScaleDenominator>1845.590558740409</ScaleDenominator>
<TopLeftCorner>-9.99189E7 1.4119729999999997E8</TopLeftCorner> <TileWidth>256</TileWidth> <TileHeight>256</TileHeight>
<MatrixWidth>274997</MatrixWidth> <MatrixHeight>324316</MatrixHeight>
</TileMatrix>
<TileMatrix>
<ows:Identifier>7</ows:Identifier>
<ScaleDenominator>922.7952793702045</ScaleDenominator>
<TopLeftCorner>-9.99189E7 1.4119729999999997E8</TopLeftCorner> <TileWidth>256</TileWidth> <TileHeight>256</TileHeight>
<MatrixWidth>549994</MatrixWidth> <MatrixHeight>648632</MatrixHeight>
</TileMatrix>
<TileMatrix>
<ows:Identifier>8</ows:Identifier>
<ScaleDenominator>461.39763968510226</ScaleDenominator>
<TopLeftCorner>-9.99189E7 1.4119729999999997E8</TopLeftCorner> <TileWidth>256</TileWidth> <TileHeight>256</TileHeight>
<MatrixWidth>1099987</MatrixWidth> <MatrixHeight>1297263</MatrixHeight>
</TileMatrix>
</TileMatrixSet>
</Contents>
<ServiceMetadataURL xlink:href="https://gis.gtcountymi.gov/arcgis/rest/services/Imagery/Grand_Traverse_Image_Mosaic_Tile_Cache/MapServer/WMTS/1.0.0/WMTSCapabilities.xml" /> </Capabilities>
