<?xml version="1.0" encoding="UTF-8"?>
<Capabilities xmlns="http://www.opengis.net/wmts/1.0"
xmlns:ows="http://www.opengis.net/ows/1.1"
xmlns:xlink="http://www.w3.org/1999/xlink"
xmlns:xsi="http://www.w3.org/2001/XMLSchema-instance"
xmlns:gml="http://www.opengis.net/gml"
xsi:schemaLocation="http://www.opengis.net/wmts/1.0 http://schemas.opengis.net/wmts/1.0/wmtsGetCapabilities_response.xsd"
version="1.0.0">
<!-- Service Identification --> <ows:ServiceIdentification>
<ows:Title>Contours_GTC_10ft_Contours_Tile_Cache</ows:Title>
<ows:ServiceType>OGC WMTS</ows:ServiceType>
<ows:ServiceTypeVersion>1.0.0</ows:ServiceTypeVersion>
</ows:ServiceIdentification> <!-- Operations Metadata --> <ows:OperationsMetadata>
<ows:Operation name="GetCapabilities">
<ows:DCP>
<ows:HTTP>
<ows:Get xlink:href="https://gis.gtcountymi.gov/arcgis/rest/services/Contours/GTC_10ft_Contours_Tile_Cache/MapServer/WMTS/1.0.0/WMTSCapabilities.xml">
<ows:Constraint name="GetEncoding">
<ows:AllowedValues>
<ows:Value>RESTful</ows:Value>
</ows:AllowedValues>
</ows:Constraint>
</ows:Get>
<!-- add KVP binding in 10.1 -->
<ows:Get xlink:href="https://gis.gtcountymi.gov/arcgis/rest/services/Contours/GTC_10ft_Contours_Tile_Cache/MapServer/WMTS?">
<ows:Constraint name="GetEncoding">
<ows:AllowedValues>
<ows:Value>KVP</ows:Value>
</ows:AllowedValues>
</ows:Constraint>
</ows:Get>
</ows:HTTP>
</ows:DCP>
</ows:Operation>
<ows:Operation name="GetTile">
<ows:DCP>
<ows:HTTP>
<ows:Get xlink:href="https://gis.gtcountymi.gov/arcgis/rest/services/Contours/GTC_10ft_Contours_Tile_Cache/MapServer/WMTS/tile/1.0.0/">
<ows:Constraint name="GetEncoding">
<ows:AllowedValues>
<ows:Value>RESTful</ows:Value>
</ows:AllowedValues>
</ows:Constraint>
</ows:Get>
<ows:Get xlink:href="https://gis.gtcountymi.gov/arcgis/rest/services/Contours/GTC_10ft_Contours_Tile_Cache/MapServer/WMTS?">
<ows:Constraint name="GetEncoding">
<ows:AllowedValues>
<ows:Value>KVP</ows:Value>
</ows:AllowedValues>
</ows:Constraint>
</ows:Get>
</ows:HTTP>
</ows:DCP>
</ows:Operation>
</ows:OperationsMetadata> <Contents>
<!--Layer--> <Layer>
<ows:Title>Contours_GTC_10ft_Contours_Tile_Cache</ows:Title> <ows:Identifier>Contours_GTC_10ft_Contours_Tile_Cache</ows:Identifier>
<ows:BoundingBox crs="urn:ogc:def:crs:EPSG::2252">
<ows:LowerCorner>1.909398560220414E7 428636.5475557774</ows:LowerCorner>
<ows:UpperCorner>1.964684086006619E7 621424.5833497315</ows:UpperCorner>
</ows:BoundingBox> <ows:WGS84BoundingBox crs="urn:ogc:def:crs:OGC:2:84">
<ows:LowerCorner>-86.65195310776228 44.469766889126454</ows:LowerCorner>
<ows:UpperCorner>-84.51305297718386 45.021127659829986</ows:UpperCorner>
</ows:WGS84BoundingBox>
<Style isDefault="true">
<ows:Title>Default Style</ows:Title>
<ows:Identifier>default</ows:Identifier>
</Style>
<Format>image/jpgpng</Format>
<TileMatrixSetLink>
<TileMatrixSet>default028mm</TileMatrixSet>
</TileMatrixSetLink>
<ResourceURL format="image/jpgpng" resourceType="tile" template="https://gis.gtcountymi.gov/arcgis/rest/services/Contours/GTC_10ft_Contours_Tile_Cache/MapServer/WMTS/tile/1.0.0/Contours_GTC_10ft_Contours_Tile_Cache/{Style}/{TileMatrixSet}/{TileMatrix}/{TileRow}/{TileCol}" />
</Layer> <!--TileMatrixSet-->
<TileMatrixSet>
<ows:Title>TileMatrix using 0.28mm</ows:Title>
<ows:Abstract>The tile matrix set that has scale values calculated based on the dpi defined by OGC specification (dpi assumes 0.28mm as the physical distance of a pixel).</ows:Abstract> <ows:Identifier>default028mm</ows:Identifier>
<ows:SupportedCRS>urn:ogc:def:crs:EPSG::2252</ows:SupportedCRS>
<TileMatrix>
<ows:Identifier>0</ows:Identifier>
<ScaleDenominator>118117.79575938618</ScaleDenominator>
<TopLeftCorner>-9.99189E7 1.4119729999999997E8</TopLeftCorner> <TileWidth>256</TileWidth> <TileHeight>256</TileHeight>
<MatrixWidth>4305</MatrixWidth> <MatrixHeight>5068</MatrixHeight>
</TileMatrix>
<TileMatrix>
<ows:Identifier>1</ows:Identifier>
<ScaleDenominator>59058.89787969309</ScaleDenominator>
<TopLeftCorner>-9.99189E7 1.4119729999999997E8</TopLeftCorner> <TileWidth>256</TileWidth> <TileHeight>256</TileHeight>
<MatrixWidth>8609</MatrixWidth> <MatrixHeight>10136</MatrixHeight>
</TileMatrix>
<TileMatrix>
<ows:Identifier>2</ows:Identifier>
<ScaleDenominator>29529.448939846545</ScaleDenominator>
<TopLeftCorner>-9.99189E7 1.4119729999999997E8</TopLeftCorner> <TileWidth>256</TileWidth> <TileHeight>256</TileHeight>
<MatrixWidth>17218</MatrixWidth> <MatrixHeight>20271</MatrixHeight>
</TileMatrix>
<TileMatrix>
<ows:Identifier>3</ows:Identifier>
<ScaleDenominator>14764.724469923272</ScaleDenominator>
<TopLeftCorner>-9.99189E7 1.4119729999999997E8</TopLeftCorner> <TileWidth>256</TileWidth> <TileHeight>256</TileHeight>
<MatrixWidth>34435</MatrixWidth> <MatrixHeight>40542</MatrixHeight>
</TileMatrix>
<TileMatrix>
<ows:Identifier>4</ows:Identifier>
<ScaleDenominator>7382.362234961636</ScaleDenominator>
<TopLeftCorner>-9.99189E7 1.4119729999999997E8</TopLeftCorner> <TileWidth>256</TileWidth> <TileHeight>256</TileHeight>
<MatrixWidth>68870</MatrixWidth> <MatrixHeight>81083</MatrixHeight>
</TileMatrix>
<TileMatrix>
<ows:Identifier>5</ows:Identifier>
<ScaleDenominator>3691.181117480818</ScaleDenominator>
<TopLeftCorner>-9.99189E7 1.4119729999999997E8</TopLeftCorner> <TileWidth>256</TileWidth> <TileHeight>256</TileHeight>
<MatrixWidth>137740</MatrixWidth> <MatrixHeight>162166</MatrixHeight>
</TileMatrix>
<TileMatrix>
<ows:Identifier>6</ows:Identifier>
<ScaleDenominator>1845.590558740409</ScaleDenominator>
<TopLeftCorner>-9.99189E7 1.4119729999999997E8</TopLeftCorner> <TileWidth>256</TileWidth> <TileHeight>256</TileHeight>
<MatrixWidth>275479</MatrixWidth> <MatrixHeight>324331</MatrixHeight>
</TileMatrix>
<TileMatrix>
<ows:Identifier>7</ows:Identifier>
<ScaleDenominator>922.7952793702045</ScaleDenominator>
<TopLeftCorner>-9.99189E7 1.4119729999999997E8</TopLeftCorner> <TileWidth>256</TileWidth> <TileHeight>256</TileHeight>
<MatrixWidth>550958</MatrixWidth> <MatrixHeight>648661</MatrixHeight>
</TileMatrix>
<TileMatrix>
<ows:Identifier>8</ows:Identifier>
<ScaleDenominator>461.39763968510226</ScaleDenominator>
<TopLeftCorner>-9.99189E7 1.4119729999999997E8</TopLeftCorner> <TileWidth>256</TileWidth> <TileHeight>256</TileHeight>
<MatrixWidth>1101916</MatrixWidth> <MatrixHeight>1297322</MatrixHeight>
</TileMatrix>
</TileMatrixSet>
</Contents>
<ServiceMetadataURL xlink:href="https://gis.gtcountymi.gov/arcgis/rest/services/Contours/GTC_10ft_Contours_Tile_Cache/MapServer/WMTS/1.0.0/WMTSCapabilities.xml" /> </Capabilities>
